BEGIN:VCALENDAR
VERSION:2.0
PRODID:-//Wunnensteinschule Großbottwar - ECPv6.15.20//NONSGML v1.0//EN
CALSCALE:GREGORIAN
METHOD:PUBLISH
X-ORIGINAL-URL:https://www.wunnensteinschule.de
X-WR-CALDESC:Veranstaltungen für Wunnensteinschule Großbottwar
REFRESH-INTERVAL;VALUE=DURATION:PT1H
X-Robots-Tag:noindex
X-PUBLISHED-TTL:PT1H
BEGIN:VTIMEZONE
TZID:Europe/Berlin
BEGIN:DAYLIGHT
TZOFFSETFROM:+0100
TZOFFSETTO:+0200
TZNAME:CEST
DTSTART:20180325T010000
END:DAYLIGHT
BEGIN:STANDARD
TZOFFSETFROM:+0200
TZOFFSETTO:+0100
TZNAME:CET
DTSTART:20181028T010000
END:STANDARD
BEGIN:DAYLIGHT
TZOFFSETFROM:+0100
TZOFFSETTO:+0200
TZNAME:CEST
DTSTART:20190331T010000
END:DAYLIGHT
BEGIN:STANDARD
TZOFFSETFROM:+0200
TZOFFSETTO:+0100
TZNAME:CET
DTSTART:20191027T010000
END:STANDARD
BEGIN:DAYLIGHT
TZOFFSETFROM:+0100
TZOFFSETTO:+0200
TZNAME:CEST
DTSTART:20200329T010000
END:DAYLIGHT
BEGIN:STANDARD
TZOFFSETFROM:+0200
TZOFFSETTO:+0100
TZNAME:CET
DTSTART:20201025T010000
END:STANDARD
BEGIN:DAYLIGHT
TZOFFSETFROM:+0100
TZOFFSETTO:+0200
TZNAME:CEST
DTSTART:20210328T010000
END:DAYLIGHT
BEGIN:STANDARD
TZOFFSETFROM:+0200
TZOFFSETTO:+0100
TZNAME:CET
DTSTART:20211031T010000
END:STANDARD
BEGIN:DAYLIGHT
TZOFFSETFROM:+0100
TZOFFSETTO:+0200
TZNAME:CEST
DTSTART:20220327T010000
END:DAYLIGHT
BEGIN:STANDARD
TZOFFSETFROM:+0200
TZOFFSETTO:+0100
TZNAME:CET
DTSTART:20221030T010000
END:STANDARD
BEGIN:DAYLIGHT
TZOFFSETFROM:+0100
TZOFFSETTO:+0200
TZNAME:CEST
DTSTART:20230326T010000
END:DAYLIGHT
BEGIN:STANDARD
TZOFFSETFROM:+0200
TZOFFSETTO:+0100
TZNAME:CET
DTSTART:20231029T010000
END:STANDARD
BEGIN:DAYLIGHT
TZOFFSETFROM:+0100
TZOFFSETTO:+0200
TZNAME:CEST
DTSTART:20240331T010000
END:DAYLIGHT
BEGIN:STANDARD
TZOFFSETFROM:+0200
TZOFFSETTO:+0100
TZNAME:CET
DTSTART:20241027T010000
END:STANDARD
BEGIN:DAYLIGHT
TZOFFSETFROM:+0100
TZOFFSETTO:+0200
TZNAME:CEST
DTSTART:20250330T010000
END:DAYLIGHT
BEGIN:STANDARD
TZOFFSETFROM:+0200
TZOFFSETTO:+0100
TZNAME:CET
DTSTART:20251026T010000
END:STANDARD
BEGIN:DAYLIGHT
TZOFFSETFROM:+0100
TZOFFSETTO:+0200
TZNAME:CEST
DTSTART:20260329T010000
END:DAYLIGHT
BEGIN:STANDARD
TZOFFSETFROM:+0200
TZOFFSETTO:+0100
TZNAME:CET
DTSTART:20261025T010000
END:STANDARD
END:VTIMEZONE
BEGIN:VTIMEZONE
TZID:UTC
BEGIN:STANDARD
TZOFFSETFROM:+0000
TZOFFSETTO:+0000
TZNAME:UTC
DTSTART:20180101T000000
END:STANDARD
END:VTIMEZONE
BEGIN:VEVENT
DTSTART;VALUE=DATE:20250918
DTEND;VALUE=DATE:20250919
DTSTAMP:20260422T175437
CREATED:20250210T204554Z
LAST-MODIFIED:20250210T204554Z
UID:3013-1758153600-1758239999@www.wunnensteinschule.de
SUMMARY:Einschulung der neuen Erstklässler\, 15:00 Uhr
DESCRIPTION:
URL:https://www.wunnensteinschule.de/termin/einschulung-der-neuen-erstklaessler-1500-uhr/
CATEGORIES:Klasse 1
END:VEVENT
BEGIN:VEVENT
DTSTART;VALUE=DATE:20250915
DTEND;VALUE=DATE:20250916
DTSTAMP:20260422T175437
CREATED:20250210T204522Z
LAST-MODIFIED:20250210T204522Z
UID:3011-1757894400-1757980799@www.wunnensteinschule.de
SUMMARY:erstere Schultag nach den Sommerferien
DESCRIPTION:
URL:https://www.wunnensteinschule.de/termin/erstere-schultag-nach-den-sommerferien/
CATEGORIES:Schule Allgemein
END:VEVENT
BEGIN:VEVENT
DTSTART;VALUE=DATE:20250730
DTEND;VALUE=DATE:20250731
DTSTAMP:20260422T175437
CREATED:20250210T204449Z
LAST-MODIFIED:20250210T204449Z
UID:3009-1753833600-1753919999@www.wunnensteinschule.de
SUMMARY:letzter Schultag vor den Sommerferien
DESCRIPTION:
URL:https://www.wunnensteinschule.de/termin/letzter-schultag-vor-den-sommerferien/
CATEGORIES:Schule Allgemein
END:VEVENT
BEGIN:VEVENT
DTSTART;VALUE=DATE:20250725
DTEND;VALUE=DATE:20250726
DTSTAMP:20260422T175437
CREATED:20250210T204409Z
LAST-MODIFIED:20250210T204409Z
UID:3007-1753401600-1753487999@www.wunnensteinschule.de
SUMMARY:Ausgabe Schulberichte und Zeugnisse
DESCRIPTION:
URL:https://www.wunnensteinschule.de/termin/ausgabe-schulberichte-und-zeugnisse/
CATEGORIES:Schule Allgemein
END:VEVENT
BEGIN:VEVENT
DTSTART;TZID=Europe/Berlin:20250718T120000
DTEND;TZID=Europe/Berlin:20250718T140000
DTSTAMP:20260422T175437
CREATED:20250210T204327Z
LAST-MODIFIED:20250210T204327Z
UID:3005-1752840000-1752847200@www.wunnensteinschule.de
SUMMARY:offenes Schulhaus
DESCRIPTION:
URL:https://www.wunnensteinschule.de/termin/offenes-schulhaus/
CATEGORIES:Schule Allgemein
END:VEVENT
BEGIN:VEVENT
DTSTART;VALUE=DATE:20250716
DTEND;VALUE=DATE:20250719
DTSTAMP:20260422T175437
CREATED:20250210T204234Z
LAST-MODIFIED:20250210T204234Z
UID:3003-1752624000-1752883199@www.wunnensteinschule.de
SUMMARY:Projekttage\, Schulbeginn täglich 8:25 Uhr
DESCRIPTION:
URL:https://www.wunnensteinschule.de/termin/projekttage-schulbeginn-taeglich-825-uhr/
CATEGORIES:Schule Allgemein
END:VEVENT
BEGIN:VEVENT
DTSTART;VALUE=DATE:20250310
DTEND;VALUE=DATE:20250311
DTSTAMP:20260422T175437
CREATED:20250210T203917Z
LAST-MODIFIED:20250210T203917Z
UID:3001-1741564800-1741651199@www.wunnensteinschule.de
SUMMARY:pädagogischer Tag
DESCRIPTION:
URL:https://www.wunnensteinschule.de/termin/paedagogischer-tag/
CATEGORIES:Schule Allgemein
END:VEVENT
BEGIN:VEVENT
DTSTART;TZID=Europe/Berlin:20230424T193000
DTEND;TZID=Europe/Berlin:20230424T193000
DTSTAMP:20260422T175437
CREATED:20230124T085219Z
LAST-MODIFIED:20230124T085219Z
UID:2473-1682364600-1682364600@www.wunnensteinschule.de
SUMMARY:Klassenpflegschaftsabend Klasse 4\, 19.30 Uhr
DESCRIPTION:
URL:https://www.wunnensteinschule.de/termin/klassenpflegschaftsabend-klasse-4-19-30-uhr/
LOCATION:Wunnensteinschule\, Lindenstraße 11\, Großbottwar\, 71723\, Deutschland
CATEGORIES:Klasse 4
END:VEVENT
BEGIN:VEVENT
DTSTART;TZID=Europe/Berlin:20230309T193000
DTEND;TZID=Europe/Berlin:20230309T193000
DTSTAMP:20260422T175437
CREATED:20230124T084950Z
LAST-MODIFIED:20230124T084950Z
UID:2471-1678390200-1678390200@www.wunnensteinschule.de
SUMMARY:Klassenpflegschaftsabend Klasse 3\, 19.30 Uhr
DESCRIPTION:
URL:https://www.wunnensteinschule.de/termin/klassenpflegschaftsabend-klasse-3-19-30-uhr/
LOCATION:Wunnensteinschule\, Lindenstraße 11\, Großbottwar\, 71723\, Deutschland
CATEGORIES:Klasse 3
END:VEVENT
BEGIN:VEVENT
DTSTART;VALUE=DATE:20230306
DTEND;VALUE=DATE:20230310
DTSTAMP:20260422T175437
CREATED:20230124T090313Z
LAST-MODIFIED:20230124T090313Z
UID:2480-1678060800-1678406399@www.wunnensteinschule.de
SUMMARY:06.-09.03.2023 - Anmeldung an weiterführenden Schulen
DESCRIPTION:
URL:https://www.wunnensteinschule.de/termin/06-09-03-2023-anmeldung-an-weiterfuehrenden-schulen/
CATEGORIES:Klasse 4
END:VEVENT
BEGIN:VEVENT
DTSTART;TZID=Europe/Berlin:20230302T193000
DTEND;TZID=Europe/Berlin:20230302T193000
DTSTAMP:20260422T175437
CREATED:20230124T084711Z
LAST-MODIFIED:20230124T084711Z
UID:2467-1677785400-1677785400@www.wunnensteinschule.de
SUMMARY:Klassenpflegschaftsabend Kl. 1 und 2\, 19.30 Uhr
DESCRIPTION:
URL:https://www.wunnensteinschule.de/termin/klassenpflegschaftsabend-kl-1-und-2-19-30-uhr/
LOCATION:Mensa Schulzentrum Großbottwar\, Hannenbachstr. 10\, Großbottwar\, 71723
CATEGORIES:Klasse 1,Klasse 2
END:VEVENT
BEGIN:VEVENT
DTSTART;VALUE=DATE:20230218
DTEND;VALUE=DATE:20230227
DTSTAMP:20260422T175437
CREATED:20230124T085903Z
LAST-MODIFIED:20230124T085903Z
UID:2478-1676678400-1677455999@www.wunnensteinschule.de
SUMMARY:Winterferien (Fasching)
DESCRIPTION:
URL:https://www.wunnensteinschule.de/termin/winterferien-fasching/
CATEGORIES:Schule Allgemein
END:VEVENT
BEGIN:VEVENT
DTSTART;VALUE=DATE:20230206
DTEND;VALUE=DATE:20230207
DTSTAMP:20260422T175437
CREATED:20230124T085656Z
LAST-MODIFIED:20230124T085656Z
UID:2475-1675641600-1675727999@www.wunnensteinschule.de
SUMMARY:Pädagogischer Tag - kein Unterricht
DESCRIPTION:
URL:https://www.wunnensteinschule.de/termin/paedagogischer-tag-kein-unterricht/
CATEGORIES:Schule Allgemein
END:VEVENT
BEGIN:VEVENT
DTSTART;TZID=Europe/Berlin:20230201T193000
DTEND;TZID=Europe/Berlin:20230201T193000
DTSTAMP:20260422T175437
CREATED:20230124T084308Z
LAST-MODIFIED:20230124T084802Z
UID:2465-1675279800-1675279800@www.wunnensteinschule.de
SUMMARY:Informationsabend zur Einschulung im September 2023\, 19.30 Uhr
DESCRIPTION:
URL:https://www.wunnensteinschule.de/termin/informationsabend-zur-einschulung-in-klasse-1-im-september-2023/
LOCATION:Mensa Schulzentrum Großbottwar\, Hannenbachstr. 10\, Großbottwar\, 71723
CATEGORIES:Schule Allgemein
END:VEVENT
BEGIN:VEVENT
DTSTART;VALUE=DATE:20220728
DTEND;VALUE=DATE:20220729
DTSTAMP:20260422T175437
CREATED:20220602T121509Z
LAST-MODIFIED:20220602T121509Z
UID:2282-1658966400-1659052799@www.wunnensteinschule.de
SUMMARY:Beginn Sommerferien 2022
DESCRIPTION:Ende Unterricht am 27.07.2022: 11.00 Uhr \nSommerferien: 28.07.2022 – 11.09.2022
URL:https://www.wunnensteinschule.de/termin/beginn-sommerferien-2022/
END:VEVENT
BEGIN:VEVENT
DTSTART;VALUE=DATE:20220723
DTEND;VALUE=DATE:20220724
DTSTAMP:20260422T175437
CREATED:20220602T121211Z
LAST-MODIFIED:20220602T121211Z
UID:2278-1658534400-1658620799@www.wunnensteinschule.de
SUMMARY:Schulfest mit Zirkusaufführung
DESCRIPTION:Die Klassen führen in drei Vorstellungen auf\, was sie in der Projektwoche erarbeitet haben. \nAlle a-Klassen:    11.00 Uhr \nAlle b-Klassen:    13.30 Uhr \nAlle c-Klassen:    16.00 Uhr \nAlle Kinder erhalten 4 Eintrittskarten für ihre persönlichen Gäste. \nNähere Informationen erhalten alle Eltern am 20.06.2022\, über die “Schulranzenpost”
URL:https://www.wunnensteinschule.de/termin/schulfest-mit-zirkusauffuehrung/
LOCATION:Zirkuszelt bei der Stadthalle\, In den Frauengärten 8\, Großbottwar\, 71723
END:VEVENT
BEGIN:VEVENT
DTSTART;TZID=Europe/Berlin:20220718T000000
DTEND;TZID=Europe/Berlin:20220722T000000
DTSTAMP:20260422T175437
CREATED:20220602T114226Z
LAST-MODIFIED:20220602T121751Z
UID:2274-1658102400-1658448000@www.wunnensteinschule.de
SUMMARY:Projekttage Zirkus
DESCRIPTION:Vormittags zu den regulären Unterrichtszeiten. \nIn der Woche vom 18.-22.07.2022 findet keine Ganztagesschule statt. Ebenso kein Nachmittagsunterricht für die Klassen 3 und 4. \nAnmeldungen für die Notbetreuung sind bis 30.06.2022 möglich. Informationen hierzu gehen am 20.06.2022 allen Eltern – über die “Schulranzenpost” zu.
URL:https://www.wunnensteinschule.de/termin/projekttage-zirkus/
END:VEVENT
BEGIN:VEVENT
DTSTART;TZID=Europe/Berlin:20220622T193000
DTEND;TZID=Europe/Berlin:20220622T210000
DTSTAMP:20260422T175437
CREATED:20220602T112610Z
LAST-MODIFIED:20220602T112610Z
UID:2266-1655926200-1655931600@www.wunnensteinschule.de
SUMMARY:Informationsabend zur Intensivkooperation mit der Paul-Aldinger-Schule\, Kleinbottwar
DESCRIPTION:Informationsabend für die Eltern der Einschulungskinder\, September 2022 \nHerr Hetzel\, Schulleiter der Paul-Aldinger-Schule\, wird an diesem Abend Ziel\, Inhalt und Ausgestaltung der Kooperation vorstellen.
URL:https://www.wunnensteinschule.de/termin/informationsabend-zur-intensivkooperation-mit-der-paul-aldinger-schule-kleinbottwar/
LOCATION:Mensa Schulzentrum Großbottwar\, Hannenbachstr. 10\, Großbottwar\, 71723
END:VEVENT
BEGIN:VEVENT
DTSTART;TZID=Europe/Berlin:20220622T080000
DTEND;TZID=Europe/Berlin:20220622T170000
DTSTAMP:20260422T175437
CREATED:20220602T113542Z
LAST-MODIFIED:20220602T113542Z
UID:2272-1655884800-1655917200@www.wunnensteinschule.de
SUMMARY:Sekretariat geschlossen
DESCRIPTION:Das Sekretariat der Wunnensteinschule ist\, aufgrund einer Fortbildung\, ganztägig geschlossen.
URL:https://www.wunnensteinschule.de/termin/sekretariat-geschlossen/
END:VEVENT
BEGIN:VEVENT
DTSTART;VALUE=DATE:20220605
DTEND;VALUE=DATE:20220620
DTSTAMP:20260422T175437
CREATED:20220602T113029Z
LAST-MODIFIED:20220602T113029Z
UID:2270-1654387200-1655683199@www.wunnensteinschule.de
SUMMARY:Pfingstferien 2022
DESCRIPTION:Die Ferienbetreuung findet\, für angemeldete Kinder\, nur in der zweiten Ferienwoche statt.
URL:https://www.wunnensteinschule.de/termin/pfingstferien-2022/
END:VEVENT
BEGIN:VEVENT
DTSTART;VALUE=DATE:20191221
DTEND;VALUE=DATE:20200107
DTSTAMP:20260422T175437
CREATED:20191206T212759Z
LAST-MODIFIED:20191206T212759Z
UID:1702-1576886400-1578355199@www.wunnensteinschule.de
SUMMARY:Weihnachtsferien
DESCRIPTION:
URL:https://www.wunnensteinschule.de/termin/weihnachtsferien/
CATEGORIES:Schule Allgemein
END:VEVENT
BEGIN:VEVENT
DTSTART;TZID=Europe/Berlin:20191220T110000
DTEND;TZID=Europe/Berlin:20191220T110100
DTSTAMP:20260422T175437
CREATED:20191206T212722Z
LAST-MODIFIED:20191206T212722Z
UID:1700-1576839600-1576839660@www.wunnensteinschule.de
SUMMARY:11.00 Uhr Ende Unterricht
DESCRIPTION:
URL:https://www.wunnensteinschule.de/termin/11-00-uhr-ende-unterricht/
CATEGORIES:Schule Allgemein
END:VEVENT
BEGIN:VEVENT
DTSTART;TZID=Europe/Berlin:20191216T085000
DTEND;TZID=Europe/Berlin:20191216T093000
DTSTAMP:20260422T175437
CREATED:20191206T212618Z
LAST-MODIFIED:20191206T212618Z
UID:1698-1576486200-1576488600@www.wunnensteinschule.de
SUMMARY:3. Adventssingen im Foyer / 8.50 Uhr
DESCRIPTION:
URL:https://www.wunnensteinschule.de/termin/3-adventssingen-im-foyer-8-50-uhr/
CATEGORIES:Schule Allgemein
END:VEVENT
BEGIN:VEVENT
DTSTART;TZID=Europe/Berlin:20191210T101500
DTEND;TZID=Europe/Berlin:20191210T110000
DTSTAMP:20260422T175437
CREATED:20191206T212533Z
LAST-MODIFIED:20191206T212533Z
UID:1696-1575972900-1575975600@www.wunnensteinschule.de
SUMMARY:Schülerparlament 4. Std. im Forscherraum
DESCRIPTION:
URL:https://www.wunnensteinschule.de/termin/schuelerparlament-4-std-im-forscherraum/
CATEGORIES:Schule Allgemein
END:VEVENT
BEGIN:VEVENT
DTSTART;TZID=Europe/Berlin:20191209T085000
DTEND;TZID=Europe/Berlin:20191209T093000
DTSTAMP:20260422T175437
CREATED:20191206T212420Z
LAST-MODIFIED:20191206T212420Z
UID:1694-1575881400-1575883800@www.wunnensteinschule.de
SUMMARY:2. Adventssingen im Foyer / 8.50 Uhr
DESCRIPTION:
URL:https://www.wunnensteinschule.de/termin/2-adventssingen-im-foyer-8-50-uhr/
CATEGORIES:Schule Allgemein
END:VEVENT
BEGIN:VEVENT
DTSTART;TZID=UTC:20190913T150000
DTEND;TZID=UTC:20190913T235900
DTSTAMP:20260422T175437
CREATED:20170208T114325Z
LAST-MODIFIED:20190802T201330Z
UID:195-1568386800-1568419140@www.wunnensteinschule.de
SUMMARY:Einschulungsfeier 2019
DESCRIPTION:1. Klasse\, Freitag 13.09.2019 um 15:00Uhr
URL:https://www.wunnensteinschule.de/termin/einschulungsfeier-2019/
CATEGORIES:Schule Allgemein
ATTACH;FMTTYPE=image/jpeg:https://www.wunnensteinschule.de/wp-content/uploads/2017/01/about-us-044.jpg
END:VEVENT
BEGIN:VEVENT
DTSTART;TZID=UTC:20190913T150000
DTEND;TZID=UTC:20190913T170000
DTSTAMP:20260422T175437
CREATED:20170208T114226Z
LAST-MODIFIED:20190802T201654Z
UID:196-1568386800-1568394000@www.wunnensteinschule.de
SUMMARY:Wilde Töne (Kl. 3 aus 18/19 - jetzt Kl.4)
DESCRIPTION:Einschulungsfeier 15.00 Uhr
URL:https://www.wunnensteinschule.de/termin/wilde-toene/
LOCATION:Home Default
CATEGORIES:Schule Allgemein
ATTACH;FMTTYPE=image/jpeg:https://www.wunnensteinschule.de/wp-content/uploads/2017/02/event-04.jpg
END:VEVENT
BEGIN:VEVENT
DTSTART;TZID=UTC:20190913T140000
DTEND;TZID=UTC:20190913T150000
DTSTAMP:20260422T175437
CREATED:20170203T114108Z
LAST-MODIFIED:20190802T201533Z
UID:197-1568383200-1568386800@www.wunnensteinschule.de
SUMMARY:Ökum. Einschulungsgottesdienst
DESCRIPTION:13.09.2019\, 14:00Uhr\, ev. Kirche
URL:https://www.wunnensteinschule.de/termin/oekum-einschulungsgottesdienst/
CATEGORIES:Schule Allgemein
ATTACH;FMTTYPE=image/jpeg:https://www.wunnensteinschule.de/wp-content/uploads/2017/02/event-03.jpg
END:VEVENT
BEGIN:VEVENT
DTSTART;TZID=UTC:20190314T112616
DTEND;TZID=UTC:20190208T170000
DTSTAMP:20260422T175437
CREATED:20170213T084054Z
LAST-MODIFIED:20170213T084054Z
UID:194-1552562776-1549645200@www.wunnensteinschule.de
SUMMARY:Board Meeting
DESCRIPTION:The Ed School District is in compliance with the U.S. Civil Rights Act of 1964 and the Title IX Educational Amendments of 1972\, Part 86. The School District provides equal employment and educational opportunities to all individuals without regard to race\, color\, creed\, religion\, national origin\, political affiliation\, sex\, sexual orientation\, age\, marital status\, veteran status or disability.
URL:https://www.wunnensteinschule.de/termin/board-meeting/
LOCATION:Home Default
ATTACH;FMTTYPE=image/jpeg:https://www.wunnensteinschule.de/wp-content/uploads/2017/02/event-02.jpg
END:VEVENT
END:VCALENDAR